BEGIN:VCALENDAR
VERSION:2.0
PRODID:-//Maido Project - ECPv6.6.3//NONSGML v1.0//EN
CALSCALE:GREGORIAN
METHOD:PUBLISH
X-WR-CALNAME:Maido Project
X-ORIGINAL-URL:http://www.maidoproject.com
X-WR-CALDESC:Events for Maido Project
REFRESH-INTERVAL;VALUE=DURATION:PT1H
X-Robots-Tag:noindex
X-PUBLISHED-TTL:PT1H
BEGIN:VTIMEZONE
TZID:Europe/Paris
BEGIN:DAYLIGHT
TZOFFSETFROM:+0100
TZOFFSETTO:+0200
TZNAME:CEST
DTSTART:20180325T010000
END:DAYLIGHT
BEGIN:STANDARD
TZOFFSETFROM:+0200
TZOFFSETTO:+0100
TZNAME:CET
DTSTART:20181028T010000
END:STANDARD
BEGIN:DAYLIGHT
TZOFFSETFROM:+0100
TZOFFSETTO:+0200
TZNAME:CEST
DTSTART:20190331T010000
END:DAYLIGHT
BEGIN:STANDARD
TZOFFSETFROM:+0200
TZOFFSETTO:+0100
TZNAME:CET
DTSTART:20191027T010000
END:STANDARD
END:VTIMEZONE
BEGIN:VEVENT
DTSTART;TZID=Europe/Paris:20191109T210000
DTEND;TZID=Europe/Paris:20191109T233000
DTSTAMP:20260420T074123
CREATED:20191006T205158Z
LAST-MODIFIED:20191006T205202Z
UID:1641-1573333200-1573342200@www.maidoproject.com
SUMMARY:Maido Project au Royal Est Music
DESCRIPTION:
URL:http://www.maidoproject.com/event/maido-project-au-royal-est-music/
LOCATION:Royal Est Music\, 129 Rue du Faubourg Saint Martin\, Paris\, 75010\, France
END:VEVENT
BEGIN:VEVENT
DTSTART;TZID=Europe/Paris:20191106T210000
DTEND;TZID=Europe/Paris:20191106T233000
DTSTAMP:20260420T074123
CREATED:20191101T171709Z
LAST-MODIFIED:20191101T171709Z
UID:1663-1573074000-1573083000@www.maidoproject.com
SUMMARY:Isa De Oliveira Quartet
DESCRIPTION:
URL:http://www.maidoproject.com/event/isa-de-oliveira-quartet/
LOCATION:Favela Chic\, 18 Rue du Faubourg du Temple\, Paris\, 75011
END:VEVENT
BEGIN:VEVENT
DTSTART;TZID=Europe/Paris:20191023T200000
DTEND;TZID=Europe/Paris:20191023T233000
DTSTAMP:20260420T074123
CREATED:20191007T081023Z
LAST-MODIFIED:20191007T081023Z
UID:1653-1571860800-1571873400@www.maidoproject.com
SUMMARY:AOR Night featuring Geyster
DESCRIPTION:
URL:http://www.maidoproject.com/event/aor-night-featuring-geyster/
LOCATION:New Morning\, 7 & 9\, Rue des Petites Ecuries\, Paris\, 75010\, France
END:VEVENT
BEGIN:VEVENT
DTSTART;TZID=Europe/Paris:20191019T210000
DTEND;TZID=Europe/Paris:20191019T233000
DTSTAMP:20260420T074123
CREATED:20191006T204933Z
LAST-MODIFIED:20191006T204940Z
UID:1638-1571518800-1571527800@www.maidoproject.com
SUMMARY:Sounds of Gnawas
DESCRIPTION:
URL:http://www.maidoproject.com/event/sounds-of-gnawas/
LOCATION:Royal Est Music\, 129 Rue du Faubourg Saint Martin\, Paris\, 75010\, France
END:VEVENT
BEGIN:VEVENT
DTSTART;TZID=Europe/Paris:20190710T183000
DTEND;TZID=Europe/Paris:20190710T233000
DTSTAMP:20260420T074123
CREATED:20191007T081459Z
LAST-MODIFIED:20191007T081459Z
UID:1660-1562783400-1562801400@www.maidoproject.com
SUMMARY:Festival Jazz à Porquerolles
DESCRIPTION:
URL:http://www.maidoproject.com/event/festival-jazz-a-porquerolles-3/
END:VEVENT
BEGIN:VEVENT
DTSTART;TZID=Europe/Paris:20190709T183000
DTEND;TZID=Europe/Paris:20190709T233000
DTSTAMP:20260420T074123
CREATED:20191007T081400Z
LAST-MODIFIED:20191007T081400Z
UID:1658-1562697000-1562715000@www.maidoproject.com
SUMMARY:Festival Jazz à Porquerolles
DESCRIPTION:
URL:http://www.maidoproject.com/event/festival-jazz-a-porquerolles-2/
LOCATION:Jazz à Porquerolles\, Porquerolles\, France
END:VEVENT
BEGIN:VEVENT
DTSTART;TZID=Europe/Paris:20190707T183000
DTEND;TZID=Europe/Paris:20190707T233000
DTSTAMP:20260420T074123
CREATED:20191007T081144Z
LAST-MODIFIED:20191007T081234Z
UID:1655-1562524200-1562542200@www.maidoproject.com
SUMMARY:Festival Jazz à Porquerolles
DESCRIPTION:
URL:http://www.maidoproject.com/event/festival-jazz-a-porquerolles/
LOCATION:Jazz à Porquerolles\, Porquerolles\, France
END:VEVENT
BEGIN:VEVENT
DTSTART;TZID=Europe/Paris:20190706T200000
DTEND;TZID=Europe/Paris:20190706T233000
DTSTAMP:20260420T074123
CREATED:20191007T080142Z
LAST-MODIFIED:20191007T081307Z
UID:1645-1562443200-1562455800@www.maidoproject.com
SUMMARY:Festival Jazz à porquerolles
DESCRIPTION:
URL:http://www.maidoproject.com/event/aor-night-feat-geyster/
LOCATION:Jazz à Porquerolles\, Porquerolles\, France
END:VEVENT
BEGIN:VEVENT
DTSTART;TZID=Europe/Paris:20180916T180000
DTEND;TZID=Europe/Paris:20180916T180000
DTSTAMP:20260420T074123
CREATED:20180912T134745Z
LAST-MODIFIED:20180912T134745Z
UID:1610-1537120800-1537120800@www.maidoproject.com
SUMMARY:Avec Didier Sustrac à la Dame de Canton
DESCRIPTION:
URL:http://www.maidoproject.com/event/avec-didier-sustrac-a-la-dame-de-canton/
END:VEVENT
BEGIN:VEVENT
DTSTART;TZID=Europe/Paris:20180826T180000
DTEND;TZID=Europe/Paris:20180826T220000
DTSTAMP:20260420T074123
CREATED:20180725T120101Z
LAST-MODIFIED:20180725T120101Z
UID:1565-1535306400-1535320800@www.maidoproject.com
SUMMARY:With Didier Sustrac - Dame de Canton
DESCRIPTION:
URL:http://www.maidoproject.com/event/with-didier-sustrac-dame-de-canton-3/
END:VEVENT
BEGIN:VEVENT
DTSTART;TZID=Europe/Paris:20180819T180000
DTEND;TZID=Europe/Paris:20180819T220000
DTSTAMP:20260420T074123
CREATED:20180725T120006Z
LAST-MODIFIED:20180725T120006Z
UID:1563-1534701600-1534716000@www.maidoproject.com
SUMMARY:With Didier Sustrac - Dame de Canton
DESCRIPTION:
URL:http://www.maidoproject.com/event/with-didier-sustrac-dame-de-canton-2/
END:VEVENT
BEGIN:VEVENT
DTSTART;TZID=Europe/Paris:20180815T180000
DTEND;TZID=Europe/Paris:20180815T210000
DTSTAMP:20260420T074123
CREATED:20180725T115620Z
LAST-MODIFIED:20180725T115620Z
UID:1558-1534356000-1534366800@www.maidoproject.com
SUMMARY:Festival Parfum de Jazz - Buy les Baronnies
DESCRIPTION:
URL:http://www.maidoproject.com/event/festival-parfum-de-jazz-buy-les-baronnies-2/
END:VEVENT
BEGIN:VEVENT
DTSTART;TZID=Europe/Paris:20180814T180000
DTEND;TZID=Europe/Paris:20180814T210000
DTSTAMP:20260420T074123
CREATED:20180725T115508Z
LAST-MODIFIED:20180725T115508Z
UID:1556-1534269600-1534280400@www.maidoproject.com
SUMMARY:Festival Parfum de Jazz - Buy les Baronnies
DESCRIPTION:
URL:http://www.maidoproject.com/event/festival-parfum-de-jazz-buy-les-baronnies/
END:VEVENT
BEGIN:VEVENT
DTSTART;TZID=Europe/Paris:20180805T180000
DTEND;TZID=Europe/Paris:20180805T220000
DTSTAMP:20260420T074123
CREATED:20180725T115917Z
LAST-MODIFIED:20180725T115917Z
UID:1560-1533492000-1533506400@www.maidoproject.com
SUMMARY:With Didier Sustrac - Dame de Canton
DESCRIPTION:
URL:http://www.maidoproject.com/event/with-didier-sustrac-dame-de-canton/
END:VEVENT
BEGIN:VEVENT
DTSTART;TZID=Europe/Paris:20180727T210000
DTEND;TZID=Europe/Paris:20180727T233000
DTSTAMP:20260420T074123
CREATED:20180725T115353Z
LAST-MODIFIED:20180725T115353Z
UID:1553-1532725200-1532734200@www.maidoproject.com
SUMMARY:With Andrea Brandao Trio
DESCRIPTION:Andrea Brandao : vocal \nMario Bakuna : guitar \nEdmundo Carneiro : percussions \nPierre Baillot : Sax\, flutes
URL:http://www.maidoproject.com/event/with-andrea-brandao-trio/
END:VEVENT
BEGIN:VEVENT
DTSTART;TZID=Europe/Paris:20180707T190000
DTEND;TZID=Europe/Paris:20180711T233000
DTSTAMP:20260420T074123
CREATED:20180619T132027Z
LAST-MODIFIED:20180619T132027Z
UID:1536-1530990000-1531351800@www.maidoproject.com
SUMMARY:Festival Jazz & Porquerolles
DESCRIPTION:
URL:http://www.maidoproject.com/event/festival-jazz-porquerolles/
END:VEVENT
BEGIN:VEVENT
DTSTART;TZID=Europe/Paris:20180628T200000
DTEND;TZID=Europe/Paris:20180628T230000
DTSTAMP:20260420T074123
CREATED:20180619T131843Z
LAST-MODIFIED:20180619T131843Z
UID:1534-1530216000-1530226800@www.maidoproject.com
SUMMARY:Projection Dunes Nues
DESCRIPTION:
URL:http://www.maidoproject.com/event/projection-dunes-nues/
END:VEVENT
BEGIN:VEVENT
DTSTART;TZID=Europe/Paris:20180623T170000
DTEND;TZID=Europe/Paris:20180623T180000
DTSTAMP:20260420T074123
CREATED:20180619T134053Z
LAST-MODIFIED:20180619T134053Z
UID:1545-1529773200-1529776800@www.maidoproject.com
SUMMARY:Jazzbox Radio Show - Interview
DESCRIPTION:
URL:http://www.maidoproject.com/event/jazzbox-radio-show-interview/
END:VEVENT
BEGIN:VEVENT
DTSTART;TZID=Europe/Paris:20180617T183000
DTEND;TZID=Europe/Paris:20180617T200000
DTSTAMP:20260420T074123
CREATED:20180619T132630Z
LAST-MODIFIED:20180619T132717Z
UID:1540-1529260200-1529265600@www.maidoproject.com
SUMMARY:Olbia Festival - Hyères
DESCRIPTION:
URL:http://www.maidoproject.com/event/olinea-festival-hyeres/
END:VEVENT
BEGIN:VEVENT
DTSTART;TZID=Europe/Paris:20180616T210000
DTEND;TZID=Europe/Paris:20180616T230000
DTSTAMP:20260420T074123
CREATED:20180619T132221Z
LAST-MODIFIED:20180619T132221Z
UID:1538-1529182800-1529190000@www.maidoproject.com
SUMMARY:La Ciotat Private Event
DESCRIPTION:
URL:http://www.maidoproject.com/event/la-ciotat-private-event/
END:VEVENT
BEGIN:VEVENT
DTSTART;TZID=Europe/Paris:20180615T210000
DTEND;TZID=Europe/Paris:20180615T233000
DTSTAMP:20260420T074123
CREATED:20180619T130738Z
LAST-MODIFIED:20180619T130738Z
UID:1525-1529096400-1529105400@www.maidoproject.com
SUMMARY:Yasmin Shah 4tet
DESCRIPTION:
URL:http://www.maidoproject.com/event/yasmin-shah-4tet/
END:VEVENT
BEGIN:VEVENT
DTSTART;TZID=Europe/Paris:20180610T183000
DTEND;TZID=Europe/Paris:20180610T213000
DTSTAMP:20260420T074123
CREATED:20180619T130931Z
LAST-MODIFIED:20180619T130931Z
UID:1527-1528655400-1528666200@www.maidoproject.com
SUMMARY:Didier Sustrac Théatre de Dix Heures - Dame de Canton
DESCRIPTION:
URL:http://www.maidoproject.com/event/didier-sustrac-theatre-de-dix-heures-dame-de-canton/
END:VEVENT
BEGIN:VEVENT
DTSTART;TZID=Europe/Paris:20180607T203000
DTEND;TZID=Europe/Paris:20180607T230000
DTSTAMP:20260420T074123
CREATED:20180619T131157Z
LAST-MODIFIED:20180619T131157Z
UID:1531-1528403400-1528412400@www.maidoproject.com
SUMMARY:Maido Project Live in Camden - London
DESCRIPTION:
URL:http://www.maidoproject.com/event/maido-project-live-in-camden-london/
END:VEVENT
BEGIN:VEVENT
DTSTART;TZID=Europe/Paris:20180530T210000
DTEND;TZID=Europe/Paris:20180530T233000
DTSTAMP:20260420T074123
CREATED:20180619T131053Z
LAST-MODIFIED:20180619T131053Z
UID:1529-1527714000-1527723000@www.maidoproject.com
SUMMARY:Maido Project Live in Paris
DESCRIPTION:
URL:http://www.maidoproject.com/event/maido-project-live-in-paris/
END:VEVENT
BEGIN:VEVENT
DTSTART;TZID=Europe/Paris:20180526T170000
DTEND;TZID=Europe/Paris:20180526T180000
DTSTAMP:20260420T074123
CREATED:20180619T134246Z
LAST-MODIFIED:20180619T134246Z
UID:1547-1527354000-1527357600@www.maidoproject.com
SUMMARY:Jazzbox Radio Show Paris
DESCRIPTION:
URL:http://www.maidoproject.com/event/jazzbox-radio-show-paris/
END:VEVENT
BEGIN:VEVENT
DTSTART;TZID=Europe/Paris:20180519T140000
DTEND;TZID=Europe/Paris:20180519T170000
DTSTAMP:20260420T074123
CREATED:20180619T133828Z
LAST-MODIFIED:20180619T133828Z
UID:1543-1526738400-1526749200@www.maidoproject.com
SUMMARY:Workshop in Paris
DESCRIPTION:
URL:http://www.maidoproject.com/event/workshop-in-paris/
END:VEVENT
BEGIN:VEVENT
DTSTART;TZID=Europe/Paris:20180127T080000
DTEND;TZID=Europe/Paris:20180127T170000
DTSTAMP:20260420T074123
CREATED:20180124T082644Z
LAST-MODIFIED:20180124T082644Z
UID:1492-1517040000-1517072400@www.maidoproject.com
SUMMARY:Oud Solo-Private Event Paris
DESCRIPTION:
URL:http://www.maidoproject.com/event/oud-solo-private-event-paris/
END:VEVENT
BEGIN:VEVENT
DTSTART;TZID=Europe/Paris:20180124T203000
DTEND;TZID=Europe/Paris:20180124T233000
DTSTAMP:20260420T074123
CREATED:20180123T214609Z
LAST-MODIFIED:20180124T164534Z
UID:1486-1516825800-1516836600@www.maidoproject.com
SUMMARY:Live avec Didier Sustrac au Sunset
DESCRIPTION:J’aurai le plaisir de jouer en Live DIdier Sustrac au Sunset
URL:http://www.maidoproject.com/event/didier-sustrac-au-sunset/
LOCATION:Sunset\, 60 Rue des Lombards\, Paris\, 75001\, France
END:VEVENT
BEGIN:VEVENT
DTSTART;TZID=Europe/Paris:20180113T203000
DTEND;TZID=Europe/Paris:20180113T203000
DTSTAMP:20260420T074123
CREATED:20180124T083829Z
LAST-MODIFIED:20180124T083829Z
UID:1494-1515875400-1515875400@www.maidoproject.com
SUMMARY:Live with Lameck Macaba & Edmundo Carneiro at Bab-ilo
DESCRIPTION:
URL:http://www.maidoproject.com/event/live-with-lameck-macaba-edmundo-carneiro-at-bab-ilo/
LOCATION:Bab-ilo\, 10 Rue du Baigneur\, Paris\, 75018
END:VEVENT
BEGIN:VEVENT
DTSTART;TZID=Europe/Paris:20180111T203000
DTEND;TZID=Europe/Paris:20180111T203000
DTSTAMP:20260420T074123
CREATED:20180124T084249Z
LAST-MODIFIED:20180124T084249Z
UID:1497-1515702600-1515702600@www.maidoproject.com
SUMMARY:With Mario Bakuna & Edmundo Carneiro at Restaurant La Féria
DESCRIPTION:
URL:http://www.maidoproject.com/event/with-mario-bakuna-edmundo-carneiro-at-restaurant-la-feria/
LOCATION:La Féria\, 25 Rue Montgallet\, Paris\, 75012
END:VEVENT
END:VCALENDAR